BEGIN:VCALENDAR
VERSION:2.0
PRODID:-//جامعة جبلة للعلوم الطبية والصحية - ECPv5.8.2//NONSGML v1.0//EN
CALSCALE:GREGORIAN
METHOD:PUBLISH
X-WR-CALNAME:جامعة جبلة للعلوم الطبية والصحية
X-ORIGINAL-URL:https://jums.edu.ye
X-WR-CALDESC:Events for جامعة جبلة للعلوم الطبية والصحية
BEGIN:VTIMEZONE
TZID:UTC
BEGIN:STANDARD
TZOFFSETFROM:+0000
TZOFFSETTO:+0000
TZNAME:UTC
DTSTART:20190101T000000
END:STANDARD
END:VTIMEZONE
BEGIN:VEVENT
DTSTART;TZID=UTC:20191104T130000
DTEND;TZID=UTC:20191104T170000
DTSTAMP:20210819T181415
CREATED:20200816T085247Z
LAST-MODIFIED:20201212T190428Z
UID:5984-1572872400-1572886800@jums.edu.ye
SUMMARY:جامعة جبلة للعلوم الطبية والصحية تستضيف فعالية احتفالية بالمولد النبوي الشريف.
DESCRIPTION:Far far away\, behind the word mountains\, far from the countries Vokalia and Consonantia\, there live the blind texts. Separated they live in Bookmarksgrove right at the coast of the Semantics\, a large language ocean. A small river named Duden flows by their place and supplies it with the necessary regelialia. It is a paradisematic country\, in which roasted parts of sentences fly into your mouth. Even the all-powerful Pointing has no control about the blind texts it is an almost unorthographic life One day however a small line of blind text by the name \n\n\n	مرتبط
URL:https://jums.edu.ye/event/%d8%ac%d8%a7%d9%85%d8%b9%d8%a9-%d8%ac%d8%a8%d9%84%d8%a9-%d9%84%d9%84%d8%b9%d9%84%d9%88%d9%85-%d8%a7%d9%84%d8%b7%d8%a8%d9%8a%d8%a9-%d9%88%d8%a7%d9%84%d8%b5%d8%ad%d9%8a%d8%a9-%d8%aa%d8%b3%d8%aa%d8%b6/
LOCATION:القاعة الكبري – جامعة جبلة\, جامعة جبلة\, جبلة\, محافظة اب\, 967\, Yemen
ATTACH;FMTTYPE=image/jpeg:https://jums.edu.ye/wp-content/uploads/2018/08/122743162_2726984374208356_5581333672234943162_o.jpg
ORGANIZER;CN="%D8%A7%D9%84%D8%B9%D9%84%D8%A7%D9%82%D8%A7%D8%AA%20%D8%A7%D9%84%D8%B9%D8%A7%D9%85%D8%A9":MAILTO:info@jums.edu.ye
END:VEVENT
END:VCALENDAR